BEGIN:VCALENDAR
VERSION:2.0
PRODID:-//Maphumulo Local Municipality - ECPv6.0.13.1//NONSGML v1.0//EN
CALSCALE:GREGORIAN
METHOD:PUBLISH
X-WR-CALNAME:Maphumulo Local Municipality
X-ORIGINAL-URL:https://maphumulo.gov.za
X-WR-CALDESC:Events for Maphumulo Local Municipality
REFRESH-INTERVAL;VALUE=DURATION:PT1H
X-Robots-Tag:noindex
X-PUBLISHED-TTL:PT1H
BEGIN:VTIMEZONE
TZID:Africa/Johannesburg
BEGIN:STANDARD
TZOFFSETFROM:+0200
TZOFFSETTO:+0200
TZNAME:SAST
DTSTART:20230101T000000
END:STANDARD
END:VTIMEZONE
BEGIN:VEVENT
DTSTART;TZID=Africa/Johannesburg:20250626T090000
DTEND;TZID=Africa/Johannesburg:20250626T160000
DTSTAMP:20260419T180417
CREATED:20250624T142334Z
LAST-MODIFIED:20250624T142335Z
UID:4023-1750928400-1750953600@maphumulo.gov.za
SUMMARY:Council Meeting
DESCRIPTION:Notice is hereby given that there will be a Municipal Council Meeting on Thursday\, 26 June 2025\nat 09h00 at Council Chambers.
URL:https://maphumulo.gov.za/event/council-meeting-24/
LOCATION:Council Chamber\, Main Rd\, 4470\, South Africa\, Maphumulo\, KwaZulu-Natal\, 4470\, South Africa
CATEGORIES:Meetings
ATTACH;FMTTYPE=image/jpeg:https://maphumulo.gov.za/wp-content/uploads/2025/06/MeetingNotice-26-06-2025.jpg
ORGANIZER;CN="Nondumiso%20Msimangi":MAILTO:Nondumiso.Msimangi@maphumulo.gov.za
END:VEVENT
BEGIN:VEVENT
DTSTART;TZID=Africa/Johannesburg:20250619T090000
DTEND;TZID=Africa/Johannesburg:20250619T160000
DTSTAMP:20260419T180417
CREATED:20250617T142038Z
LAST-MODIFIED:20250618T143103Z
UID:4014-1750323600-1750348800@maphumulo.gov.za
SUMMARY:Special Council Meeting
DESCRIPTION:Kindly note that on the 19 June 2025 there will be a special Council meeting at Hampshire Hotel immediately after the second session of the policy Workshop program.
URL:https://maphumulo.gov.za/event/special-council-meeting-10/
LOCATION:Hampshire Hotel\, 4048 Moffatt Drive\, Ballito Business Park\, Ballito\, KwaZulu-Natal\, 4420\, South Africa
CATEGORIES:Meetings
ATTACH;FMTTYPE=image/jpeg:https://maphumulo.gov.za/wp-content/uploads/2025/06/MeetingNotice-19-06-2025.jpg
ORGANIZER;CN="Nondumiso%20Msimangi":MAILTO:Nondumiso.Msimangi@maphumulo.gov.za
END:VEVENT
BEGIN:VEVENT
DTSTART;TZID=Africa/Johannesburg:20250528T090000
DTEND;TZID=Africa/Johannesburg:20250528T160000
DTSTAMP:20260419T180417
CREATED:20250523T165216Z
LAST-MODIFIED:20250523T165216Z
UID:3988-1748422800-1748448000@maphumulo.gov.za
SUMMARY:Council Meeting
DESCRIPTION:Kindly note that there is a Council Meeting to be held on the 28 May 2025 in the Council Chambers at 09:00
URL:https://maphumulo.gov.za/event/council-meeting-23/
LOCATION:Council Chamber\, Main Rd\, 4470\, South Africa\, Maphumulo\, KwaZulu-Natal\, 4470\, South Africa
CATEGORIES:Meetings
ATTACH;FMTTYPE=image/jpeg:https://maphumulo.gov.za/wp-content/uploads/2025/05/MeetingNotice-28-05-2025.jpg
END:VEVENT
BEGIN:VEVENT
DTSTART;TZID=Africa/Johannesburg:20250423T090000
DTEND;TZID=Africa/Johannesburg:20250423T160000
DTSTAMP:20260419T180417
CREATED:20250422T211754Z
LAST-MODIFIED:20250422T211755Z
UID:3966-1745398800-1745424000@maphumulo.gov.za
SUMMARY:Council Meeting
DESCRIPTION:Kindly note that there is a Council Meeting to be held on the 23 April 2025 in the Council Chambers at 09:00
URL:https://maphumulo.gov.za/event/council-meeting-22/
LOCATION:Council Chamber\, Main Rd\, 4470\, South Africa\, Maphumulo\, KwaZulu-Natal\, 4470\, South Africa
CATEGORIES:Meetings
ATTACH;FMTTYPE=image/jpeg:https://maphumulo.gov.za/wp-content/uploads/2025/04/MeetingNotice-23-04-2025.jpg
END:VEVENT
BEGIN:VEVENT
DTSTART;TZID=Africa/Johannesburg:20250327T090000
DTEND;TZID=Africa/Johannesburg:20250327T160000
DTSTAMP:20260419T180417
CREATED:20250323T123951Z
LAST-MODIFIED:20250327T124532Z
UID:3950-1743066000-1743091200@maphumulo.gov.za
SUMMARY:Council Meeting
DESCRIPTION:Please note that there will be a Council Meeting that will be held on the 27 March 2025 in the Council Chambers at 09:00
URL:https://maphumulo.gov.za/event/council-meeting-21/
LOCATION:Council Chamber\, Main Rd\, 4470\, South Africa\, Maphumulo\, KwaZulu-Natal\, 4470\, South Africa
CATEGORIES:Meetings
ATTACH;FMTTYPE=image/jpeg:https://maphumulo.gov.za/wp-content/uploads/2025/03/MeetingNotice-27-03-2025.jpg
ORGANIZER;CN="Nondumiso%20Msimangi":MAILTO:Nondumiso.Msimangi@maphumulo.gov.za
END:VEVENT
BEGIN:VEVENT
DTSTART;TZID=Africa/Johannesburg:20250320T120000
DTEND;TZID=Africa/Johannesburg:20250320T160000
DTSTAMP:20260419T180417
CREATED:20250317T211655Z
LAST-MODIFIED:20250317T211656Z
UID:3944-1742472000-1742486400@maphumulo.gov.za
SUMMARY:Special Council Meeting
DESCRIPTION:Please note that there will be a special council meeting on the 20 March 2025 in the Council Chambers at 12H00.
URL:https://maphumulo.gov.za/event/special-council-meeting-9/
LOCATION:Council Chamber\, Main Rd\, 4470\, South Africa\, Maphumulo\, KwaZulu-Natal\, 4470\, South Africa
CATEGORIES:Meetings
ATTACH;FMTTYPE=image/jpeg:https://maphumulo.gov.za/wp-content/uploads/2025/03/MeetingNotice-20-03-2025.jpg
END:VEVENT
BEGIN:VEVENT
DTSTART;TZID=Africa/Johannesburg:20250227T090000
DTEND;TZID=Africa/Johannesburg:20250227T160000
DTSTAMP:20260419T180417
CREATED:20250227T121958Z
LAST-MODIFIED:20250227T122000Z
UID:3926-1740646800-1740672000@maphumulo.gov.za
SUMMARY:Council Meeting
DESCRIPTION:Kindly note that there will be a Council Meeting on the 27th of February 2025.
URL:https://maphumulo.gov.za/event/council-meeting-20/
LOCATION:Council Chamber\, Main Rd\, 4470\, South Africa\, Maphumulo\, KwaZulu-Natal\, 4470\, South Africa
CATEGORIES:Meetings
ATTACH;FMTTYPE=image/jpeg:https://maphumulo.gov.za/wp-content/uploads/2025/02/MeetingNotice-27-02-2025.jpg
END:VEVENT
BEGIN:VEVENT
DTSTART;TZID=Africa/Johannesburg:20250221T090000
DTEND;TZID=Africa/Johannesburg:20250221T160000
DTSTAMP:20260419T180417
CREATED:20250210T144738Z
LAST-MODIFIED:20250220T145718Z
UID:3919-1740128400-1740153600@maphumulo.gov.za
SUMMARY:Special Council Meeting
DESCRIPTION:Kindly note that there will be a Special Council meeting scheduled for 21 February 2025 in the Council Chambers at 09h00.
URL:https://maphumulo.gov.za/event/special-council-meeting-8/
LOCATION:Council Chamber\, Main Rd\, 4470\, South Africa\, Maphumulo\, KwaZulu-Natal\, 4470\, South Africa
CATEGORIES:Meetings
ATTACH;FMTTYPE=image/jpeg:https://maphumulo.gov.za/wp-content/uploads/2025/02/MeetingNotice-21-02-2025.jpg
END:VEVENT
BEGIN:VEVENT
DTSTART;TZID=Africa/Johannesburg:20250124T090000
DTEND;TZID=Africa/Johannesburg:20250124T153000
DTSTAMP:20260419T180417
CREATED:20250119T085054Z
LAST-MODIFIED:20250131T085208Z
UID:3904-1737709200-1737732600@maphumulo.gov.za
SUMMARY:Council Meeting
DESCRIPTION:Kindly note that there will be a Council meeting on the 18 December 2024 in the Council Chambers at 09:00
URL:https://maphumulo.gov.za/event/council-meeting-19/
LOCATION:Council Chamber\, Main Rd\, 4470\, South Africa\, Maphumulo\, KwaZulu-Natal\, 4470\, South Africa
CATEGORIES:Meetings
ATTACH;FMTTYPE=image/jpeg:https://maphumulo.gov.za/wp-content/uploads/2025/01/MeetingNotice-24-01-2025.jpg
END:VEVENT
BEGIN:VEVENT
DTSTART;TZID=Africa/Johannesburg:20241218T090000
DTEND;TZID=Africa/Johannesburg:20241218T160000
DTSTAMP:20260419T180417
CREATED:20241211T084733Z
LAST-MODIFIED:20250131T085313Z
UID:3900-1734512400-1734537600@maphumulo.gov.za
SUMMARY:Full Council Meeting
DESCRIPTION:Kindly note that there will be a Council meeting on the 18 December 2024 in the Council Chambers at 09:00
URL:https://maphumulo.gov.za/event/full-council-meeting-14/
LOCATION:Council Chamber\, Main Rd\, 4470\, South Africa\, Maphumulo\, KwaZulu-Natal\, 4470\, South Africa
CATEGORIES:Meetings
ATTACH;FMTTYPE=image/jpeg:https://maphumulo.gov.za/wp-content/uploads/2025/01/MeetingNotice-18-12-2024.jpg
END:VEVENT
BEGIN:VEVENT
DTSTART;TZID=Africa/Johannesburg:20241129T080000
DTEND;TZID=Africa/Johannesburg:20241129T153000
DTSTAMP:20260419T180417
CREATED:20241123T064331Z
LAST-MODIFIED:20241203T065620Z
UID:3848-1732867200-1732894200@maphumulo.gov.za
SUMMARY:Council Meeting
DESCRIPTION:Kindly note that there will be a Council meeting on the 29 November 2024 in the Council Chambers at 08:00
URL:https://maphumulo.gov.za/event/council-meeting-18/
LOCATION:Council Chamber\, Main Rd\, 4470\, South Africa\, Maphumulo\, KwaZulu-Natal\, 4470\, South Africa
CATEGORIES:Meetings
ATTACH;FMTTYPE=image/jpeg:https://maphumulo.gov.za/wp-content/uploads/2024/12/MeetingNotice-29-11-2024.jpg
ORGANIZER;CN="Nondumiso%20Msimangi":MAILTO:Nondumiso.Msimangi@maphumulo.gov.za
END:VEVENT
BEGIN:VEVENT
DTSTART;TZID=Africa/Johannesburg:20241030T090000
DTEND;TZID=Africa/Johannesburg:20241030T153000
DTSTAMP:20260419T180417
CREATED:20241015T111535Z
LAST-MODIFIED:20241031T112232Z
UID:3767-1730278800-1730302200@maphumulo.gov.za
SUMMARY:Council Meeting
DESCRIPTION:Kindly note that on the 30 October 2024 there will be an ordinary full Council meeting in the Council Chambers at 09:00
URL:https://maphumulo.gov.za/event/council-meeting-17/
LOCATION:Council Chamber\, Main Rd\, 4470\, South Africa\, Maphumulo\, KwaZulu-Natal\, 4470\, South Africa
CATEGORIES:Meetings
ATTACH;FMTTYPE=image/jpeg:https://maphumulo.gov.za/wp-content/uploads/2024/10/MeetingNotice-30-10-2024.jpg
END:VEVENT
BEGIN:VEVENT
DTSTART;TZID=Africa/Johannesburg:20240925T090000
DTEND;TZID=Africa/Johannesburg:20240925T160000
DTSTAMP:20260419T180417
CREATED:20240920T090809Z
LAST-MODIFIED:20240923T091705Z
UID:3721-1727254800-1727280000@maphumulo.gov.za
SUMMARY:Full Council Meeting
DESCRIPTION:Kindly note that on the 25 September 2024 there will be an ordinary full Council meeting in the Council Chambers at 09:00
URL:https://maphumulo.gov.za/event/full-council-meeting-13/
LOCATION:Council Chamber\, Main Rd\, 4470\, South Africa\, Maphumulo\, KwaZulu-Natal\, 4470\, South Africa
CATEGORIES:Meetings
ATTACH;FMTTYPE=image/jpeg:https://maphumulo.gov.za/wp-content/uploads/2024/09/MeetingNotice-25-09-2024.jpg
ORGANIZER;CN="Nondumiso%20Msimangi":MAILTO:Nondumiso.Msimangi@maphumulo.gov.za
END:VEVENT
BEGIN:VEVENT
DTSTART;TZID=Africa/Johannesburg:20240829T080000
DTEND;TZID=Africa/Johannesburg:20240829T160000
DTSTAMP:20260419T180417
CREATED:20240824T180827Z
LAST-MODIFIED:20240829T181056Z
UID:3684-1724918400-1724947200@maphumulo.gov.za
SUMMARY:Full Council Meeting
DESCRIPTION:Please note that there will be a Full Council Meeting on Thursday\, 29th of August\, 2024.
URL:https://maphumulo.gov.za/event/full-council-meeting-12/
LOCATION:Council Chamber\, Main Rd\, 4470\, South Africa\, Maphumulo\, KwaZulu-Natal\, 4470\, South Africa
CATEGORIES:Meetings
ATTACH;FMTTYPE=image/jpeg:https://maphumulo.gov.za/wp-content/uploads/2024/08/MeetingNotice-29-08-2024.jpg
ORGANIZER;CN="Nondumiso%20Msimangi":MAILTO:Nondumiso.Msimangi@maphumulo.gov.za
END:VEVENT
BEGIN:VEVENT
DTSTART;TZID=Africa/Johannesburg:20240823T080000
DTEND;TZID=Africa/Johannesburg:20240823T160000
DTSTAMP:20260419T180417
CREATED:20240819T090616Z
LAST-MODIFIED:20240822T091501Z
UID:3665-1724400000-1724428800@maphumulo.gov.za
SUMMARY:Special Council Meeting
DESCRIPTION:Please note that there will be a Special Council Meeting on Friday\, 23rd of August at 08h00.
URL:https://maphumulo.gov.za/event/special-council-meeting-7/
LOCATION:Council Chamber\, Main Rd\, 4470\, South Africa\, Maphumulo\, KwaZulu-Natal\, 4470\, South Africa
CATEGORIES:Meetings
ATTACH;FMTTYPE=image/jpeg:https://maphumulo.gov.za/wp-content/uploads/2024/08/MeetingNotice-23-08-2024.jpg
ORGANIZER;CN="Nondumiso%20Msimangi":MAILTO:Nondumiso.Msimangi@maphumulo.gov.za
END:VEVENT
BEGIN:VEVENT
DTSTART;TZID=Africa/Johannesburg:20240814T080000
DTEND;TZID=Africa/Johannesburg:20240814T160000
DTSTAMP:20260419T180417
CREATED:20240808T091516Z
LAST-MODIFIED:20240822T091703Z
UID:3668-1723622400-1723651200@maphumulo.gov.za
SUMMARY:Full Council Meeting
DESCRIPTION:Please note that there will be a Full Council Meeting on Wednesday\, the 14th of August at 08h00.
URL:https://maphumulo.gov.za/event/full-council-meeting-11/
LOCATION:Council Chamber\, Main Rd\, 4470\, South Africa\, Maphumulo\, KwaZulu-Natal\, 4470\, South Africa
CATEGORIES:Meetings
ATTACH;FMTTYPE=image/jpeg:https://maphumulo.gov.za/wp-content/uploads/2024/08/MeetingNotice-14-08-2024.jpg
ORGANIZER;CN="Nondumiso%20Msimangi":MAILTO:Nondumiso.Msimangi@maphumulo.gov.za
END:VEVENT
BEGIN:VEVENT
DTSTART;TZID=Africa/Johannesburg:20240725T080000
DTEND;TZID=Africa/Johannesburg:20240725T160000
DTSTAMP:20260419T180417
CREATED:20240723T090357Z
LAST-MODIFIED:20240723T090643Z
UID:3585-1721894400-1721923200@maphumulo.gov.za
SUMMARY:Full Council Meeting
DESCRIPTION:Please note there will be full council on the 25 July 2024 in the Council Chambers.
URL:https://maphumulo.gov.za/event/full-council-meeting-10/
LOCATION:Council Chamber\, Main Rd\, 4470\, South Africa\, Maphumulo\, KwaZulu-Natal\, 4470\, South Africa
CATEGORIES:Meetings
ATTACH;FMTTYPE=image/jpeg:https://maphumulo.gov.za/wp-content/uploads/2024/07/MeetingNotice-25-07-2024.jpg
ORGANIZER;CN="Nondumiso%20Msimangi":MAILTO:Nondumiso.Msimangi@maphumulo.gov.za
END:VEVENT
BEGIN:VEVENT
DTSTART;TZID=Africa/Johannesburg:20240516T080000
DTEND;TZID=Africa/Johannesburg:20240516T160000
DTSTAMP:20260419T180417
CREATED:20240508T220330Z
LAST-MODIFIED:20240510T220534Z
UID:3424-1715846400-1715875200@maphumulo.gov.za
SUMMARY:Special Council Meeting
DESCRIPTION:Please note that there will a Special Council meeting on the 16 May 2024.
URL:https://maphumulo.gov.za/event/special-council-meeting-6/
LOCATION:Council Chamber\, Main Rd\, 4470\, South Africa\, Maphumulo\, KwaZulu-Natal\, 4470\, South Africa
CATEGORIES:Meetings
ATTACH;FMTTYPE=image/jpeg:https://maphumulo.gov.za/wp-content/uploads/2024/05/MeetingNotice-16-05-2024.jpg
ORGANIZER;CN="Nondumiso%20Msimangi":MAILTO:Nondumiso.Msimangi@maphumulo.gov.za
END:VEVENT
BEGIN:VEVENT
DTSTART;TZID=Africa/Johannesburg:20240515T080000
DTEND;TZID=Africa/Johannesburg:20240515T160000
DTSTAMP:20260419T180417
CREATED:20240509T215912Z
LAST-MODIFIED:20240510T220312Z
UID:3421-1715760000-1715788800@maphumulo.gov.za
SUMMARY:Special Executive Committee Meeting
DESCRIPTION:Please note that there will a Special Executive Committee meeting on the 15 May 2024.
URL:https://maphumulo.gov.za/event/special-executive-committee-meeting/
LOCATION:Council Chamber\, Main Rd\, 4470\, South Africa\, Maphumulo\, KwaZulu-Natal\, 4470\, South Africa
CATEGORIES:Meetings
ATTACH;FMTTYPE=image/jpeg:https://maphumulo.gov.za/wp-content/uploads/2024/05/MeetingNotice-15-05-2024.jpg
ORGANIZER;CN="Nondumiso%20Msimangi":MAILTO:Nondumiso.Msimangi@maphumulo.gov.za
END:VEVENT
BEGIN:VEVENT
DTSTART;TZID=Africa/Johannesburg:20240418T080000
DTEND;TZID=Africa/Johannesburg:20240418T160000
DTSTAMP:20260419T180417
CREATED:20240415T001642Z
LAST-MODIFIED:20240418T004038Z
UID:3370-1713427200-1713456000@maphumulo.gov.za
SUMMARY:Special Council Meeting
DESCRIPTION:Kindly note that there will be a Special Council Meeting on the 18 April 2024 in the Council Chambers at 08:00
URL:https://maphumulo.gov.za/event/special-council-meeting-5/
LOCATION:Council Chamber\, Main Rd\, 4470\, South Africa\, Maphumulo\, KwaZulu-Natal\, 4470\, South Africa
CATEGORIES:Meetings
ATTACH;FMTTYPE=image/jpeg:https://maphumulo.gov.za/wp-content/uploads/2024/04/MeetingNotice-18-04-2024.jpg
END:VEVENT
BEGIN:VEVENT
DTSTART;TZID=Africa/Johannesburg:20240328T090000
DTEND;TZID=Africa/Johannesburg:20240328T160000
DTSTAMP:20260419T180417
CREATED:20240322T004404Z
LAST-MODIFIED:20240418T004849Z
UID:3373-1711616400-1711641600@maphumulo.gov.za
SUMMARY:Council Meeting
DESCRIPTION:Kindly note that notice is hereby given for the meeting which will be held on the 28 March in the Council Chambers at 09:00
URL:https://maphumulo.gov.za/event/council-meeting-16/
LOCATION:Council Chamber\, Main Rd\, 4470\, South Africa\, Maphumulo\, KwaZulu-Natal\, 4470\, South Africa
CATEGORIES:Meetings
ATTACH;FMTTYPE=image/jpeg:https://maphumulo.gov.za/wp-content/uploads/2024/04/MeetingNotice-28-03-2024.jpg
END:VEVENT
BEGIN:VEVENT
DTSTART;TZID=Africa/Johannesburg:20240228T080000
DTEND;TZID=Africa/Johannesburg:20240228T160000
DTSTAMP:20260419T180417
CREATED:20240220T113620Z
LAST-MODIFIED:20240221T114006Z
UID:3309-1709107200-1709136000@maphumulo.gov.za
SUMMARY:Full Council Meeting
DESCRIPTION:Kindly note that on the 28 February 2024 there will be a Schedule Council meeting in the Council Chambers at 09:00. \nPlease put a notice on the Municipal website regarding the above-mentioned meeting.
URL:https://maphumulo.gov.za/event/full-council-meeting-9/
LOCATION:Council Chamber\, Main Rd\, 4470\, South Africa\, Maphumulo\, KwaZulu-Natal\, 4470\, South Africa
CATEGORIES:Meetings
ATTACH;FMTTYPE=image/jpeg:https://maphumulo.gov.za/wp-content/uploads/2024/02/MeetingNotice-28-02-2024.jpg
ORGANIZER;CN="Nondumiso%20Msimangi":MAILTO:Nondumiso.Msimangi@maphumulo.gov.za
END:VEVENT
BEGIN:VEVENT
DTSTART;TZID=Africa/Johannesburg:20240131T100000
DTEND;TZID=Africa/Johannesburg:20240131T153000
DTSTAMP:20260419T180417
CREATED:20240129T092906Z
LAST-MODIFIED:20240202T093523Z
UID:3274-1706695200-1706715000@maphumulo.gov.za
SUMMARY:Council Meeting
DESCRIPTION:Please note that there will be a Council meeting on the 31 January 2024 in the Council Chambers at 10:00
URL:https://maphumulo.gov.za/event/council-meeting-15/
LOCATION:Council Chamber\, Main Rd\, 4470\, South Africa\, Maphumulo\, KwaZulu-Natal\, 4470\, South Africa
CATEGORIES:Meetings
ATTACH;FMTTYPE=image/jpeg:https://maphumulo.gov.za/wp-content/uploads/2024/02/MeetingNotice-31-12-2023-.jpg
ORGANIZER;CN="Nondumiso%20Msimangi":MAILTO:Nondumiso.Msimangi@maphumulo.gov.za
END:VEVENT
BEGIN:VEVENT
DTSTART;TZID=Africa/Johannesburg:20231130T100000
DTEND;TZID=Africa/Johannesburg:20231130T153000
DTSTAMP:20260419T180417
CREATED:20231123T172528Z
LAST-MODIFIED:20240213T172800Z
UID:3281-1701338400-1701358200@maphumulo.gov.za
SUMMARY:Full Council Meeting
DESCRIPTION:Kindly note that there will be a Full Council Meeting on Thursday\, the 30th November 2023 at 10am.
URL:https://maphumulo.gov.za/event/full-council-meeting-8/
LOCATION:Council Chamber\, Main Rd\, 4470\, South Africa\, Maphumulo\, KwaZulu-Natal\, 4470\, South Africa
CATEGORIES:Meetings
ATTACH;FMTTYPE=image/jpeg:https://maphumulo.gov.za/wp-content/uploads/2024/02/MeetingNotice-30-11-2023-.jpg
ORGANIZER;CN="Nondumiso%20Msimangi":MAILTO:Nondumiso.Msimangi@maphumulo.gov.za
END:VEVENT
BEGIN:VEVENT
DTSTART;TZID=Africa/Johannesburg:20231114T100000
DTEND;TZID=Africa/Johannesburg:20231114T153000
DTSTAMP:20260419T180417
CREATED:20231110T172054Z
LAST-MODIFIED:20240213T173107Z
UID:3278-1699956000-1699975800@maphumulo.gov.za
SUMMARY:Special Council Meeting
DESCRIPTION:Kindly note that there will be a Special Council Meeting on Tuesday\, the 14th November 2023 at 10am.
URL:https://maphumulo.gov.za/event/special-council-meeting-4/
LOCATION:Council Chamber\, Main Rd\, 4470\, South Africa\, Maphumulo\, KwaZulu-Natal\, 4470\, South Africa
CATEGORIES:Meetings
ATTACH;FMTTYPE=image/jpeg:https://maphumulo.gov.za/wp-content/uploads/2024/02/MeetingNotice-14-11-2023-.jpg
ORGANIZER;CN="Nondumiso%20Msimangi":MAILTO:Nondumiso.Msimangi@maphumulo.gov.za
END:VEVENT
BEGIN:VEVENT
DTSTART;TZID=Africa/Johannesburg:20231101T100000
DTEND;TZID=Africa/Johannesburg:20231101T160000
DTSTAMP:20260419T180417
CREATED:20231025T222759Z
LAST-MODIFIED:20231025T222950Z
UID:3133-1698832800-1698854400@maphumulo.gov.za
SUMMARY:Full Council Meeting
DESCRIPTION:Kindly note that there will be a Full Council meeting on the 01 November 2023\, in the Council Chambers at 10h00.
URL:https://maphumulo.gov.za/event/3133/
LOCATION:Council Chamber\, Main Rd\, 4470\, South Africa\, Maphumulo\, KwaZulu-Natal\, 4470\, South Africa
CATEGORIES:Meetings
ATTACH;FMTTYPE=image/jpeg:https://maphumulo.gov.za/wp-content/uploads/2023/10/MeetingNotice-01-11-2023-.jpg
ORGANIZER;CN="Nondumiso%20Msimangi":MAILTO:Nondumiso.Msimangi@maphumulo.gov.za
END:VEVENT
BEGIN:VEVENT
DTSTART;TZID=Africa/Johannesburg:20230921T100000
DTEND;TZID=Africa/Johannesburg:20230921T160000
DTSTAMP:20260419T180417
CREATED:20230918T125819Z
LAST-MODIFIED:20230918T132351Z
UID:3049-1695290400-1695312000@maphumulo.gov.za
SUMMARY:Council Meeting
DESCRIPTION:Kindly note that there will be a Full Council meeting on the 20th September 2023\, in the Council Chambers at 10h00.
URL:https://maphumulo.gov.za/event/council-meeting-13/
LOCATION:Council Chamber\, Main Rd\, 4470\, South Africa\, Maphumulo\, KwaZulu-Natal\, 4470\, South Africa
CATEGORIES:Meetings
ATTACH;FMTTYPE=image/jpeg:https://maphumulo.gov.za/wp-content/uploads/2023/09/MeetingNotice-21-09-2023-.jpg
ORGANIZER;CN="Nondumiso%20Msimangi":MAILTO:Nondumiso.Msimangi@maphumulo.gov.za
END:VEVENT
BEGIN:VEVENT
DTSTART;TZID=Africa/Johannesburg:20230901T100000
DTEND;TZID=Africa/Johannesburg:20230901T160000
DTSTAMP:20260419T180417
CREATED:20230831T111924Z
LAST-MODIFIED:20230831T111925Z
UID:3032-1693562400-1693584000@maphumulo.gov.za
SUMMARY:Special Council Meeting
DESCRIPTION:Kindly note that there will be a special council meeting on Friday the 1st of September in the council chamber at 10h00.
URL:https://maphumulo.gov.za/event/special-council-meeting-3/
LOCATION:Council Chamber\, Main Rd\, 4470\, South Africa\, Maphumulo\, KwaZulu-Natal\, 4470\, South Africa
CATEGORIES:Meetings
ATTACH;FMTTYPE=image/jpeg:https://maphumulo.gov.za/wp-content/uploads/2023/08/MeetingNotice-01-09-2023-.jpg
ORGANIZER;CN="Nondumiso%20Msimangi":MAILTO:Nondumiso.Msimangi@maphumulo.gov.za
END:VEVENT
BEGIN:VEVENT
DTSTART;TZID=Africa/Johannesburg:20230807T100000
DTEND;TZID=Africa/Johannesburg:20230807T160000
DTSTAMP:20260419T180417
CREATED:20230730T131544Z
LAST-MODIFIED:20231207T131811Z
UID:3207-1691402400-1691424000@maphumulo.gov.za
SUMMARY:Council Meeting
DESCRIPTION:Kindly note that there will be a Full Council meeting on the 07 August 2023\, in the Council Chambers at 10h00.
URL:https://maphumulo.gov.za/event/council-meeting-14/
LOCATION:Council Chamber\, Main Rd\, 4470\, South Africa\, Maphumulo\, KwaZulu-Natal\, 4470\, South Africa
CATEGORIES:Meetings
ATTACH;FMTTYPE=image/jpeg:https://maphumulo.gov.za/wp-content/uploads/2023/12/MeetingNotice-07-08-2023-.jpg
ORGANIZER;CN="Nondumiso%20Msimangi":MAILTO:Nondumiso.Msimangi@maphumulo.gov.za
END:VEVENT
BEGIN:VEVENT
DTSTART;TZID=Africa/Johannesburg:20230727T100000
DTEND;TZID=Africa/Johannesburg:20230727T160000
DTSTAMP:20260419T180417
CREATED:20230724T125107Z
LAST-MODIFIED:20231207T132518Z
UID:3205-1690452000-1690473600@maphumulo.gov.za
SUMMARY:Full Council Meeting
DESCRIPTION:Kindly note that there will be a Full Council meeting on the 27 July 2023\, in the Council Chambers at 10h00.
URL:https://maphumulo.gov.za/event/full-council-meeting-7/
LOCATION:Council Chamber\, Main Rd\, 4470\, South Africa\, Maphumulo\, KwaZulu-Natal\, 4470\, South Africa
CATEGORIES:Meetings
ATTACH;FMTTYPE=image/jpeg:https://maphumulo.gov.za/wp-content/uploads/2023/12/MeetingNotice-27-07-2023-.jpg
ORGANIZER;CN="Nondumiso%20Msimangi":MAILTO:Nondumiso.Msimangi@maphumulo.gov.za
END:VEVENT
END:VCALENDAR