BEGIN:VCALENDAR
VERSION:2.0
PRODID:-//Maphumulo Local Municipality - ECPv6.0.13.1//NONSGML v1.0//EN
CALSCALE:GREGORIAN
METHOD:PUBLISH
X-WR-CALNAME:Maphumulo Local Municipality
X-ORIGINAL-URL:https://maphumulo.gov.za
X-WR-CALDESC:Events for Maphumulo Local Municipality
REFRESH-INTERVAL;VALUE=DURATION:PT1H
X-Robots-Tag:noindex
X-PUBLISHED-TTL:PT1H
BEGIN:VTIMEZONE
TZID:Africa/Johannesburg
BEGIN:STANDARD
TZOFFSETFROM:+0200
TZOFFSETTO:+0200
TZNAME:SAST
DTSTART:20210101T000000
END:STANDARD
END:VTIMEZONE
BEGIN:VEVENT
DTSTART;TZID=Africa/Johannesburg:20210505T100000
DTEND;TZID=Africa/Johannesburg:20210505T163000
DTSTAMP:20260424T232509
CREATED:20210321T135544Z
LAST-MODIFIED:20210321T135544Z
UID:1487-1620208800-1620232200@maphumulo.gov.za
SUMMARY:Maphumulo Women's Caucus
DESCRIPTION:Maphumulo Women’s Caucus Meeting
URL:https://maphumulo.gov.za/event/maphumulo-womens-caucus-2/
LOCATION:KwaZulu-Natal
CATEGORIES:Meetings
END:VEVENT
BEGIN:VEVENT
DTSTART;TZID=Africa/Johannesburg:20210506T100000
DTEND;TZID=Africa/Johannesburg:20210506T163000
DTSTAMP:20260424T232509
CREATED:20210321T135646Z
LAST-MODIFIED:20210321T135646Z
UID:1489-1620295200-1620318600@maphumulo.gov.za
SUMMARY:Local Economic Development
DESCRIPTION:
URL:https://maphumulo.gov.za/event/local-economic-development-2/
LOCATION:Council Chamber\, Main Rd\, 4470\, South Africa\, Maphumulo\, KwaZulu-Natal\, 4470\, South Africa
CATEGORIES:Meetings
END:VEVENT
BEGIN:VEVENT
DTSTART;TZID=Africa/Johannesburg:20210507T100000
DTEND;TZID=Africa/Johannesburg:20210507T163000
DTSTAMP:20260424T232509
CREATED:20210321T135826Z
LAST-MODIFIED:20210321T135826Z
UID:1491-1620381600-1620405000@maphumulo.gov.za
SUMMARY:Audit Committee
DESCRIPTION:
URL:https://maphumulo.gov.za/event/audit-committee/
LOCATION:Council Chamber\, Main Rd\, 4470\, South Africa\, Maphumulo\, KwaZulu-Natal\, 4470\, South Africa
CATEGORIES:Meetings
END:VEVENT
BEGIN:VEVENT
DTSTART;TZID=Africa/Johannesburg:20210511T100000
DTEND;TZID=Africa/Johannesburg:20210511T163000
DTSTAMP:20260424T232509
CREATED:20210321T143435Z
LAST-MODIFIED:20210321T143435Z
UID:1493-1620727200-1620750600@maphumulo.gov.za
SUMMARY:JCC
DESCRIPTION:
URL:https://maphumulo.gov.za/event/jcc-2/
LOCATION:Council Chamber\, Main Rd\, 4470\, South Africa\, Maphumulo\, KwaZulu-Natal\, 4470\, South Africa
CATEGORIES:Meetings
END:VEVENT
BEGIN:VEVENT
DTSTART;TZID=Africa/Johannesburg:20210512T100000
DTEND;TZID=Africa/Johannesburg:20210512T163000
DTSTAMP:20260424T232509
CREATED:20210321T143535Z
LAST-MODIFIED:20210321T143535Z
UID:1495-1620813600-1620837000@maphumulo.gov.za
SUMMARY:Mass Ward Committee Meeting
DESCRIPTION:
URL:https://maphumulo.gov.za/event/mass-ward-committee-meeting/
LOCATION:Council Chamber\, Main Rd\, 4470\, South Africa\, Maphumulo\, KwaZulu-Natal\, 4470\, South Africa
CATEGORIES:Meetings
END:VEVENT
BEGIN:VEVENT
DTSTART;TZID=Africa/Johannesburg:20210513T100000
DTEND;TZID=Africa/Johannesburg:20210513T163000
DTSTAMP:20260424T232509
CREATED:20210321T143620Z
LAST-MODIFIED:20210321T143620Z
UID:1497-1620900000-1620923400@maphumulo.gov.za
SUMMARY:Local Labour Forum
DESCRIPTION:
URL:https://maphumulo.gov.za/event/local-labour-forum-2/
LOCATION:Council Chamber\, Main Rd\, 4470\, South Africa\, Maphumulo\, KwaZulu-Natal\, 4470\, South Africa
CATEGORIES:Meetings
END:VEVENT
BEGIN:VEVENT
DTSTART;TZID=Africa/Johannesburg:20210518T100000
DTEND;TZID=Africa/Johannesburg:20210518T163000
DTSTAMP:20260424T232509
CREATED:20210321T143714Z
LAST-MODIFIED:20210321T143714Z
UID:1499-1621332000-1621355400@maphumulo.gov.za
SUMMARY:OHS
DESCRIPTION:
URL:https://maphumulo.gov.za/event/ohs-2/
LOCATION:Council Chamber\, Main Rd\, 4470\, South Africa\, Maphumulo\, KwaZulu-Natal\, 4470\, South Africa
CATEGORIES:Meetings
END:VEVENT
BEGIN:VEVENT
DTSTART;TZID=Africa/Johannesburg:20210519T100000
DTEND;TZID=Africa/Johannesburg:20210519T163000
DTSTAMP:20260424T232509
CREATED:20210321T143857Z
LAST-MODIFIED:20210321T143857Z
UID:1501-1621418400-1621441800@maphumulo.gov.za
SUMMARY:MPAC
DESCRIPTION:
URL:https://maphumulo.gov.za/event/mpac/
LOCATION:Council Chamber\, Main Rd\, 4470\, South Africa\, Maphumulo\, KwaZulu-Natal\, 4470\, South Africa
CATEGORIES:Meetings
END:VEVENT
BEGIN:VEVENT
DTSTART;TZID=Africa/Johannesburg:20210520T100000
DTEND;TZID=Africa/Johannesburg:20210520T163000
DTSTAMP:20260424T232509
CREATED:20210321T144032Z
LAST-MODIFIED:20210321T144032Z
UID:1503-1621504800-1621528200@maphumulo.gov.za
SUMMARY:Finance & Corporate Services
DESCRIPTION:Finance & Corporate Services Meeting
URL:https://maphumulo.gov.za/event/finance-corporate-services-3/
LOCATION:Council Chamber\, Main Rd\, 4470\, South Africa\, Maphumulo\, KwaZulu-Natal\, 4470\, South Africa
CATEGORIES:Meetings
END:VEVENT
BEGIN:VEVENT
DTSTART;TZID=Africa/Johannesburg:20210521T100000
DTEND;TZID=Africa/Johannesburg:20210521T163000
DTSTAMP:20260424T232509
CREATED:20210321T144124Z
LAST-MODIFIED:20210321T144124Z
UID:1505-1621591200-1621614600@maphumulo.gov.za
SUMMARY:Executive Committee
DESCRIPTION:Executive Committee
URL:https://maphumulo.gov.za/event/executive-committee-3/
LOCATION:Council Chamber\, Main Rd\, 4470\, South Africa\, Maphumulo\, KwaZulu-Natal\, 4470\, South Africa
CATEGORIES:Meetings
END:VEVENT
BEGIN:VEVENT
DTSTART;TZID=Africa/Johannesburg:20210525T100000
DTEND;TZID=Africa/Johannesburg:20210525T163000
DTSTAMP:20260424T232509
CREATED:20210321T144242Z
LAST-MODIFIED:20210321T144242Z
UID:1507-1621936800-1621960200@maphumulo.gov.za
SUMMARY:Youth Sub-Committee
DESCRIPTION:Youth Sub-Committee Meeting
URL:https://maphumulo.gov.za/event/youth-sub-committee-2/
LOCATION:Council Chamber\, Main Rd\, 4470\, South Africa\, Maphumulo\, KwaZulu-Natal\, 4470\, South Africa
CATEGORIES:Meetings
END:VEVENT
BEGIN:VEVENT
DTSTART;TZID=Africa/Johannesburg:20210527T100000
DTEND;TZID=Africa/Johannesburg:20210527T163000
DTSTAMP:20260424T232509
CREATED:20210321T144325Z
LAST-MODIFIED:20210321T144325Z
UID:1509-1622109600-1622133000@maphumulo.gov.za
SUMMARY:Council Meeting
DESCRIPTION:
URL:https://maphumulo.gov.za/event/council-meeting-3/
LOCATION:Council Chamber\, Main Rd\, 4470\, South Africa\, Maphumulo\, KwaZulu-Natal\, 4470\, South Africa
CATEGORIES:Meetings
END:VEVENT
BEGIN:VEVENT
DTSTART;TZID=Africa/Johannesburg:20210930T100000
DTEND;TZID=Africa/Johannesburg:20210930T153000
DTSTAMP:20260424T232509
CREATED:20210929T124517Z
LAST-MODIFIED:20210929T125316Z
UID:1988-1632996000-1633015800@maphumulo.gov.za
SUMMARY:Special Full Council Meeting
DESCRIPTION:Please note that there will be special full council meeting on the 30 September 2021.
URL:https://maphumulo.gov.za/event/special-full-council-meeting/
LOCATION:Council Chamber\, Main Rd\, 4470\, South Africa\, Maphumulo\, KwaZulu-Natal\, 4470\, South Africa
CATEGORIES:Meetings
ATTACH;FMTTYPE=image/jpeg:https://maphumulo.gov.za/wp-content/uploads/2021/09/MeetingNotice-30-09-2021-1-3.jpg
END:VEVENT
BEGIN:VEVENT
DTSTART;VALUE=DATE:20211101
DTEND;VALUE=DATE:20211102
DTSTAMP:20260424T232509
CREATED:20210929T121041Z
LAST-MODIFIED:20210929T123437Z
UID:1985-1635724800-1635811199@maphumulo.gov.za
SUMMARY:Municipal Elections
DESCRIPTION:
URL:https://maphumulo.gov.za/event/municipal-elections/
LOCATION:Maphumulo Municipality\, MR 711\, Lot No. 152\, Maphumulo\, KwaZulu-Natal\, 4470\, South Africa
CATEGORIES:Elections
END:VEVENT
BEGIN:VEVENT
DTSTART;TZID=Africa/Johannesburg:20211119T080000
DTEND;TZID=Africa/Johannesburg:20211119T170000
DTSTAMP:20260424T232509
CREATED:20211111T120901Z
LAST-MODIFIED:20211111T120959Z
UID:2015-1637308800-1637341200@maphumulo.gov.za
SUMMARY:Inauguration of New Municipal Council
DESCRIPTION:Kindly note that there will be an inauguration of the new Municipal Council on the 19th of November 2021 at Maphumulo Town Hall.
URL:https://maphumulo.gov.za/event/inauguration-of-new-municipal-council/
LOCATION:Maphumulo Town Hall\, KwaZulu-Natal\, South Africa
CATEGORIES:Meetings
ATTACH;FMTTYPE=image/jpeg:https://maphumulo.gov.za/wp-content/uploads/2021/11/CouncilNotice-19-11-2021-.jpg
END:VEVENT
BEGIN:VEVENT
DTSTART;TZID=Africa/Johannesburg:20211207T100000
DTEND;TZID=Africa/Johannesburg:20211207T160000
DTSTAMP:20260424T232509
CREATED:20211204T214640Z
LAST-MODIFIED:20211204T214640Z
UID:2032-1638871200-1638892800@maphumulo.gov.za
SUMMARY:Council Meeting
DESCRIPTION:Notice is hereby given that there will be a Council Meeting on Tuesday\, 07 December 2021 at 10h00.
URL:https://maphumulo.gov.za/event/council-meeting-4/
LOCATION:Council Chamber\, Main Rd\, 4470\, South Africa\, Maphumulo\, KwaZulu-Natal\, 4470\, South Africa
CATEGORIES:Meetings
ATTACH;FMTTYPE=image/jpeg:https://maphumulo.gov.za/wp-content/uploads/2021/12/MeetingNotice-07-12-2021-1-2.jpg
END:VEVENT
BEGIN:VEVENT
DTSTART;TZID=Africa/Johannesburg:20220120T100000
DTEND;TZID=Africa/Johannesburg:20220120T160000
DTSTAMP:20260424T232509
CREATED:20220112T104125Z
LAST-MODIFIED:20220112T104125Z
UID:2075-1642672800-1642694400@maphumulo.gov.za
SUMMARY:Full Council meeting
DESCRIPTION:Kindly note that there will be a Full Council meeting on the 20 January 2022 at 10.00 at Council Chamber\, as per schedule.
URL:https://maphumulo.gov.za/event/full-council-meeting/
LOCATION:Council Chamber\, Main Rd\, 4470\, South Africa\, Maphumulo\, KwaZulu-Natal\, 4470\, South Africa
CATEGORIES:Meetings
END:VEVENT
BEGIN:VEVENT
DTSTART;TZID=Africa/Johannesburg:20220209T090000
DTEND;TZID=Africa/Johannesburg:20220209T160000
DTSTAMP:20260424T232509
CREATED:20220204T115107Z
LAST-MODIFIED:20220208T104438Z
UID:2230-1644397200-1644422400@maphumulo.gov.za
SUMMARY:Council Meeting
DESCRIPTION:Notice is hereby given that there will be a full council Meeting on Wednesday\, 09 February 2022 at 09h00.
URL:https://maphumulo.gov.za/event/council-meeting-5/
LOCATION:Council Chamber\, Main Rd\, 4470\, South Africa\, Maphumulo\, KwaZulu-Natal\, 4470\, South Africa
CATEGORIES:Meetings
ATTACH;FMTTYPE=image/jpeg:https://maphumulo.gov.za/wp-content/uploads/2022/02/MeetingNotice-09-02-2022-.jpg
END:VEVENT
BEGIN:VEVENT
DTSTART;TZID=Africa/Johannesburg:20220227T094500
DTEND;TZID=Africa/Johannesburg:20220227T160000
DTSTAMP:20260424T232509
CREATED:20220224T210837Z
LAST-MODIFIED:20220224T214644Z
UID:2311-1645955100-1645977600@maphumulo.gov.za
SUMMARY:Full Council Meeting
DESCRIPTION:Kindly note that there will be a Full Council meeting on the 27 February 2022 at Mfolozi Casino at 09:45.
URL:https://maphumulo.gov.za/event/full-council-meeting-2/
LOCATION:Mfolozi Casino\, 2 Copper Dr\, Kuleka\, Empangeni\, 3880\, Empangeni\, KwaZulu-Natal\, 3880\, South Africa
CATEGORIES:Meetings
END:VEVENT
BEGIN:VEVENT
DTSTART;TZID=Africa/Johannesburg:20220331T100000
DTEND;TZID=Africa/Johannesburg:20220331T160000
DTSTAMP:20260424T232509
CREATED:20220324T104510Z
LAST-MODIFIED:20220714T214614Z
UID:2351-1648720800-1648742400@maphumulo.gov.za
SUMMARY:Council Meeting
DESCRIPTION:Kindly note that there will be a full Council on the 31 March 2022 at Council Chambers at 10.00
URL:https://maphumulo.gov.za/event/council-meeting-6/
LOCATION:Council Chamber\, Main Rd\, 4470\, South Africa\, Maphumulo\, KwaZulu-Natal\, 4470\, South Africa
CATEGORIES:Meetings
ATTACH;FMTTYPE=image/jpeg:https://maphumulo.gov.za/wp-content/uploads/2022/03/MeetingNotice-31-03-2022-.jpg
END:VEVENT
BEGIN:VEVENT
DTSTART;TZID=Africa/Johannesburg:20220530T100000
DTEND;TZID=Africa/Johannesburg:20220530T160000
DTSTAMP:20260424T232509
CREATED:20220525T221147Z
LAST-MODIFIED:20220530T221941Z
UID:2378-1653904800-1653926400@maphumulo.gov.za
SUMMARY:Full Council Meeting
DESCRIPTION:Kindly note that there will a full Council meeting on the 30 May 2022 at 10: 00 in the Council Chambers.
URL:https://maphumulo.gov.za/event/full-council-meeting-3/
LOCATION:Council Chamber\, Main Rd\, 4470\, South Africa\, Maphumulo\, KwaZulu-Natal\, 4470\, South Africa
CATEGORIES:Meetings
ATTACH;FMTTYPE=image/jpeg:https://maphumulo.gov.za/wp-content/uploads/2022/05/MeetingNotice-30-05-2022-.jpg
END:VEVENT
BEGIN:VEVENT
DTSTART;TZID=Africa/Johannesburg:20220629T100000
DTEND;TZID=Africa/Johannesburg:20220629T160000
DTSTAMP:20260424T232509
CREATED:20220623T110855Z
LAST-MODIFIED:20220714T214408Z
UID:2390-1656496800-1656518400@maphumulo.gov.za
SUMMARY:Council Meeting
DESCRIPTION:Kindly note that on the 29 June 2022 at 10h00 in the Council Chambers\,  there will be a full Council Meeting.
URL:https://maphumulo.gov.za/event/council-meeting-7/
LOCATION:Council Chamber\, Main Rd\, 4470\, South Africa\, Maphumulo\, KwaZulu-Natal\, 4470\, South Africa
CATEGORIES:Meetings
ATTACH;FMTTYPE=image/jpeg:https://maphumulo.gov.za/wp-content/uploads/2022/06/MeetingNotice-29-06-2022-.jpg
END:VEVENT
BEGIN:VEVENT
DTSTART;TZID=Africa/Johannesburg:20220802T100000
DTEND;TZID=Africa/Johannesburg:20220802T153000
DTSTAMP:20260424T232509
CREATED:20220705T193321Z
LAST-MODIFIED:20220728T115248Z
UID:2410-1659434400-1659454200@maphumulo.gov.za
SUMMARY:Council Meeting
DESCRIPTION:Please note that there will be Council Meeting on the 19 July 2022 in the Council Chambers at 10:00. To Discuss inter alia\, the request by Gijima KM Security for an increase to comply with SIRA wage determination. Public is requested to submit representation interms of Section 116. 3 (b) of the MFMA
URL:https://maphumulo.gov.za/event/council-meeting-8/
LOCATION:Council Chamber\, Main Rd\, 4470\, South Africa\, Maphumulo\, KwaZulu-Natal\, 4470\, South Africa
CATEGORIES:Meetings
ATTACH;FMTTYPE=image/jpeg:https://maphumulo.gov.za/wp-content/uploads/2022/07/MeetingNotice-02-08-2022-.jpg
END:VEVENT
BEGIN:VEVENT
DTSTART;TZID=Africa/Johannesburg:20220818T100000
DTEND;TZID=Africa/Johannesburg:20220818T160000
DTSTAMP:20260424T232509
CREATED:20220818T091401Z
LAST-MODIFIED:20220818T115308Z
UID:2441-1660816800-1660838400@maphumulo.gov.za
SUMMARY:Special Full Council Meeting
DESCRIPTION:Kindly note that on the 18 August 2022 in the Council Chambers at 10h00\, there will be a Special Full Council Meeting.
URL:https://maphumulo.gov.za/event/special-full-council-meeting-2/
LOCATION:Council Chamber\, Main Rd\, 4470\, South Africa\, Maphumulo\, KwaZulu-Natal\, 4470\, South Africa
CATEGORIES:Meetings
ATTACH;FMTTYPE=image/jpeg:https://maphumulo.gov.za/wp-content/uploads/2022/08/MeetingNotice-18-08-2022-.jpg
END:VEVENT
BEGIN:VEVENT
DTSTART;TZID=Africa/Johannesburg:20221027T100000
DTEND;TZID=Africa/Johannesburg:20221027T160000
DTSTAMP:20260424T232509
CREATED:20220926T082315Z
LAST-MODIFIED:20220926T082316Z
UID:2486-1666864800-1666886400@maphumulo.gov.za
SUMMARY:Full Council Meeting
DESCRIPTION:Please note that there will be a Full Council Meeting at Maphumulo Local Municipality’s Council Chambers on Thursday the 27th at 10h00.
URL:https://maphumulo.gov.za/event/full-council-meeting-4/
LOCATION:Council Chamber\, Main Rd\, 4470\, South Africa\, Maphumulo\, KwaZulu-Natal\, 4470\, South Africa
CATEGORIES:Meetings
ATTACH;FMTTYPE=image/jpeg:https://maphumulo.gov.za/wp-content/uploads/2022/09/MeetingNotice-27-10-2022-.jpg
END:VEVENT
BEGIN:VEVENT
DTSTART;TZID=Africa/Johannesburg:20221219T080000
DTEND;TZID=Africa/Johannesburg:20221219T153000
DTSTAMP:20260424T232509
CREATED:20221206T093831Z
LAST-MODIFIED:20230306T094144Z
UID:2649-1671436800-1671463800@maphumulo.gov.za
SUMMARY:Council Meeting
DESCRIPTION:Kindly note that on the 19 December 2022 there will be a special Council meeting to be held in the Council Chambers at 08;00
URL:https://maphumulo.gov.za/event/council-meeting-9/
LOCATION:Council Chamber\, Main Rd\, 4470\, South Africa\, Maphumulo\, KwaZulu-Natal\, 4470\, South Africa
CATEGORIES:Meetings
ATTACH;FMTTYPE=image/jpeg:https://maphumulo.gov.za/wp-content/uploads/2023/03/MeetingNotice-19-12-2022-.jpg
END:VEVENT
BEGIN:VEVENT
DTSTART;TZID=Africa/Johannesburg:20230124T000000
DTEND;TZID=Africa/Johannesburg:20230124T163000
DTSTAMP:20260424T232509
CREATED:20230120T122657Z
LAST-MODIFIED:20230124T122936Z
UID:2592-1674518400-1674577800@maphumulo.gov.za
SUMMARY:Full Council Meeting
DESCRIPTION:Kindly note that on the 24 January 2023 there will be a Full Council meeting in the Council Chambers at 12:00
URL:https://maphumulo.gov.za/event/full-council-meeting-6/
LOCATION:Council Chamber\, Main Rd\, 4470\, South Africa\, Maphumulo\, KwaZulu-Natal\, 4470\, South Africa
CATEGORIES:Meetings
ATTACH;FMTTYPE=image/jpeg:https://maphumulo.gov.za/wp-content/uploads/2023/01/MeetingNotice-24-01-2023-.jpg
END:VEVENT
BEGIN:VEVENT
DTSTART;TZID=Africa/Johannesburg:20230228T100000
DTEND;TZID=Africa/Johannesburg:20230228T160000
DTSTAMP:20260424T232509
CREATED:20221205T124418Z
LAST-MODIFIED:20221205T125723Z
UID:2554-1677578400-1677600000@maphumulo.gov.za
SUMMARY:Full Council Meeting
DESCRIPTION:Please note that there will be a Full Council Meeting at Maphumulo Local Municipality’s Council Chambers on Tuesday the 28th at 10h00.
URL:https://maphumulo.gov.za/event/full-council-meeting-5/
LOCATION:Council Chamber\, Main Rd\, 4470\, South Africa\, Maphumulo\, KwaZulu-Natal\, 4470\, South Africa
CATEGORIES:Meetings
ATTACH;FMTTYPE=image/jpeg:https://maphumulo.gov.za/wp-content/uploads/2022/12/MeetingNotice-28-02-2023-.jpg
END:VEVENT
BEGIN:VEVENT
DTSTART;TZID=Africa/Johannesburg:20230330T100000
DTEND;TZID=Africa/Johannesburg:20230330T153000
DTSTAMP:20260424T232509
CREATED:20230328T011855Z
LAST-MODIFIED:20230329T013246Z
UID:2707-1680170400-1680190200@maphumulo.gov.za
SUMMARY:Council Meeting
DESCRIPTION:Kindly note that on the 30 March 2023 there will be a full Council meeting in the Council Chambers at 10:00
URL:https://maphumulo.gov.za/event/council-meeting-10/
LOCATION:Council Chamber\, Main Rd\, 4470\, South Africa\, Maphumulo\, KwaZulu-Natal\, 4470\, South Africa
CATEGORIES:Meetings
ATTACH;FMTTYPE=image/jpeg:https://maphumulo.gov.za/wp-content/uploads/2023/03/MeetingNotice-30-03-2023-.jpg
END:VEVENT
BEGIN:VEVENT
DTSTART;TZID=Africa/Johannesburg:20230426T100000
DTEND;TZID=Africa/Johannesburg:20230426T160000
DTSTAMP:20260424T232509
CREATED:20230426T193520Z
LAST-MODIFIED:20230426T194710Z
UID:2760-1682503200-1682524800@maphumulo.gov.za
SUMMARY:Council Meeting
DESCRIPTION:Kindly note that on the 26th April 2023 there will be a full Council meeting in the Council Chambers at 10:00
URL:https://maphumulo.gov.za/event/council-meeting-11/
LOCATION:Council Chamber\, Main Rd\, 4470\, South Africa\, Maphumulo\, KwaZulu-Natal\, 4470\, South Africa
CATEGORIES:Meetings
ATTACH;FMTTYPE=image/jpeg:https://maphumulo.gov.za/wp-content/uploads/2023/04/MeetingNotice-26-04-2023-.jpg
END:VEVENT
END:VCALENDAR