BEGIN:VCALENDAR
VERSION:2.0
PRODID:-//Maphumulo Local Municipality - ECPv5.8.1//NONSGML v1.0//EN
CALSCALE:GREGORIAN
METHOD:PUBLISH
X-WR-CALNAME:Maphumulo Local Municipality
X-ORIGINAL-URL:http://maphumulo.gov.za
X-WR-CALDESC:Events for Maphumulo Local Municipality
BEGIN:VTIMEZONE
TZID:Africa/Johannesburg
BEGIN:STANDARD
TZOFFSETFROM:+0200
TZOFFSETTO:+0200
TZNAME:SAST
DTSTART:20210101T000000
END:STANDARD
END:VTIMEZONE
BEGIN:VEVENT
DTSTART;TZID=Africa/Johannesburg:20210527T100000
DTEND;TZID=Africa/Johannesburg:20210527T163000
DTSTAMP:20210802T163805
CREATED:20210321T144325Z
LAST-MODIFIED:20210321T144325Z
UID:1509-1622109600-1622133000@maphumulo.gov.za
SUMMARY:Council Meeting
DESCRIPTION:
URL:http://maphumulo.gov.za/event/council-meeting-3/
LOCATION:Council Chamber
CATEGORIES:Meetings
END:VEVENT
BEGIN:VEVENT
DTSTART;TZID=Africa/Johannesburg:20210525T100000
DTEND;TZID=Africa/Johannesburg:20210525T163000
DTSTAMP:20210802T163805
CREATED:20210321T144242Z
LAST-MODIFIED:20210321T144242Z
UID:1507-1621936800-1621960200@maphumulo.gov.za
SUMMARY:Youth Sub-Committee
DESCRIPTION:Youth Sub-Committee Meeting
URL:http://maphumulo.gov.za/event/youth-sub-committee-2/
LOCATION:Council Chamber
CATEGORIES:Meetings
END:VEVENT
BEGIN:VEVENT
DTSTART;TZID=Africa/Johannesburg:20210521T100000
DTEND;TZID=Africa/Johannesburg:20210521T163000
DTSTAMP:20210802T163805
CREATED:20210321T144124Z
LAST-MODIFIED:20210321T144124Z
UID:1505-1621591200-1621614600@maphumulo.gov.za
SUMMARY:Executive Committee
DESCRIPTION:Executive Committee
URL:http://maphumulo.gov.za/event/executive-committee-3/
LOCATION:Council Chamber
CATEGORIES:Meetings
END:VEVENT
BEGIN:VEVENT
DTSTART;TZID=Africa/Johannesburg:20210520T100000
DTEND;TZID=Africa/Johannesburg:20210520T163000
DTSTAMP:20210802T163805
CREATED:20210321T144032Z
LAST-MODIFIED:20210321T144032Z
UID:1503-1621504800-1621528200@maphumulo.gov.za
SUMMARY:Finance & Corporate Services
DESCRIPTION:Finance & Corporate Services Meeting
URL:http://maphumulo.gov.za/event/finance-corporate-services-3/
LOCATION:Council Chamber
CATEGORIES:Meetings
END:VEVENT
BEGIN:VEVENT
DTSTART;TZID=Africa/Johannesburg:20210519T100000
DTEND;TZID=Africa/Johannesburg:20210519T163000
DTSTAMP:20210802T163805
CREATED:20210321T143857Z
LAST-MODIFIED:20210321T143857Z
UID:1501-1621418400-1621441800@maphumulo.gov.za
SUMMARY:MPAC
DESCRIPTION:
URL:http://maphumulo.gov.za/event/mpac/
LOCATION:Council Chamber
CATEGORIES:Meetings
END:VEVENT
BEGIN:VEVENT
DTSTART;TZID=Africa/Johannesburg:20210518T100000
DTEND;TZID=Africa/Johannesburg:20210518T163000
DTSTAMP:20210802T163805
CREATED:20210321T143714Z
LAST-MODIFIED:20210321T143714Z
UID:1499-1621332000-1621355400@maphumulo.gov.za
SUMMARY:OHS
DESCRIPTION:
URL:http://maphumulo.gov.za/event/ohs-2/
LOCATION:Council Chamber
CATEGORIES:Meetings
END:VEVENT
BEGIN:VEVENT
DTSTART;TZID=Africa/Johannesburg:20210513T100000
DTEND;TZID=Africa/Johannesburg:20210513T163000
DTSTAMP:20210802T163805
CREATED:20210321T143620Z
LAST-MODIFIED:20210321T143620Z
UID:1497-1620900000-1620923400@maphumulo.gov.za
SUMMARY:Local Labour Forum
DESCRIPTION:
URL:http://maphumulo.gov.za/event/local-labour-forum-2/
LOCATION:Council Chamber
CATEGORIES:Meetings
END:VEVENT
BEGIN:VEVENT
DTSTART;TZID=Africa/Johannesburg:20210512T100000
DTEND;TZID=Africa/Johannesburg:20210512T163000
DTSTAMP:20210802T163805
CREATED:20210321T143535Z
LAST-MODIFIED:20210321T143535Z
UID:1495-1620813600-1620837000@maphumulo.gov.za
SUMMARY:Mass Ward Committee Meeting
DESCRIPTION:
URL:http://maphumulo.gov.za/event/mass-ward-committee-meeting/
LOCATION:Council Chamber
CATEGORIES:Meetings
END:VEVENT
BEGIN:VEVENT
DTSTART;TZID=Africa/Johannesburg:20210511T100000
DTEND;TZID=Africa/Johannesburg:20210511T163000
DTSTAMP:20210802T163805
CREATED:20210321T143435Z
LAST-MODIFIED:20210321T143435Z
UID:1493-1620727200-1620750600@maphumulo.gov.za
SUMMARY:JCC
DESCRIPTION:
URL:http://maphumulo.gov.za/event/jcc-2/
LOCATION:Council Chamber
CATEGORIES:Meetings
END:VEVENT
BEGIN:VEVENT
DTSTART;TZID=Africa/Johannesburg:20210507T100000
DTEND;TZID=Africa/Johannesburg:20210507T163000
DTSTAMP:20210802T163805
CREATED:20210321T135826Z
LAST-MODIFIED:20210321T135826Z
UID:1491-1620381600-1620405000@maphumulo.gov.za
SUMMARY:Audit Committee
DESCRIPTION:
URL:http://maphumulo.gov.za/event/audit-committee/
LOCATION:Council Chamber
CATEGORIES:Meetings
END:VEVENT
BEGIN:VEVENT
DTSTART;TZID=Africa/Johannesburg:20210506T100000
DTEND;TZID=Africa/Johannesburg:20210506T163000
DTSTAMP:20210802T163805
CREATED:20210321T135646Z
LAST-MODIFIED:20210321T135646Z
UID:1489-1620295200-1620318600@maphumulo.gov.za
SUMMARY:Local Economic Development
DESCRIPTION:
URL:http://maphumulo.gov.za/event/local-economic-development-2/
LOCATION:Council Chamber
CATEGORIES:Meetings
END:VEVENT
BEGIN:VEVENT
DTSTART;TZID=Africa/Johannesburg:20210505T100000
DTEND;TZID=Africa/Johannesburg:20210505T163000
DTSTAMP:20210802T163805
CREATED:20210321T135544Z
LAST-MODIFIED:20210321T135544Z
UID:1487-1620208800-1620232200@maphumulo.gov.za
SUMMARY:Maphumulo Women's Caucus
DESCRIPTION:Maphumulo Women’s Caucus Meeting
URL:http://maphumulo.gov.za/event/maphumulo-womens-caucus-2/
CATEGORIES:Meetings
END:VEVENT
BEGIN:VEVENT
DTSTART;TZID=Africa/Johannesburg:20210504T100000
DTEND;TZID=Africa/Johannesburg:20210504T163000
DTSTAMP:20210802T163805
CREATED:20210321T135357Z
LAST-MODIFIED:20210321T135357Z
UID:1485-1620122400-1620145800@maphumulo.gov.za
SUMMARY:Technical & Infrastructure Portfolio Committee
DESCRIPTION:Technical & Infrastructure Portfolio Committee Meeting
URL:http://maphumulo.gov.za/event/technical-infrastructure-portfolio-committee/
LOCATION:Council Chamber
CATEGORIES:Meetings
END:VEVENT
BEGIN:VEVENT
DTSTART;TZID=Africa/Johannesburg:20210429T100000
DTEND;TZID=Africa/Johannesburg:20210429T163000
DTSTAMP:20210802T163805
CREATED:20210321T130130Z
LAST-MODIFIED:20210321T130130Z
UID:1483-1619690400-1619713800@maphumulo.gov.za
SUMMARY:Council Meeting
DESCRIPTION:
URL:http://maphumulo.gov.za/event/council-meeting-2/
LOCATION:Council Chamber
CATEGORIES:Meetings
END:VEVENT
BEGIN:VEVENT
DTSTART;TZID=Africa/Johannesburg:20210428T100000
DTEND;TZID=Africa/Johannesburg:20210428T163000
DTSTAMP:20210802T163805
CREATED:20210321T130046Z
LAST-MODIFIED:20210321T130046Z
UID:1480-1619604000-1619627400@maphumulo.gov.za
SUMMARY:JCC
DESCRIPTION:
URL:http://maphumulo.gov.za/event/jcc/
LOCATION:Council Chamber
CATEGORIES:Meetings
END:VEVENT
BEGIN:VEVENT
DTSTART;TZID=Africa/Johannesburg:20210427T100000
DTEND;TZID=Africa/Johannesburg:20210427T163000
DTSTAMP:20210802T163805
CREATED:20210321T125947Z
LAST-MODIFIED:20210321T125947Z
UID:1478-1619517600-1619541000@maphumulo.gov.za
SUMMARY:Local Labour Forum
DESCRIPTION:
URL:http://maphumulo.gov.za/event/local-labour-forum/
LOCATION:Council Chamber
CATEGORIES:Meetings
END:VEVENT
BEGIN:VEVENT
DTSTART;TZID=Africa/Johannesburg:20210423T100000
DTEND;TZID=Africa/Johannesburg:20210423T163000
DTSTAMP:20210802T163805
CREATED:20210321T125704Z
LAST-MODIFIED:20210321T125721Z
UID:1476-1619172000-1619195400@maphumulo.gov.za
SUMMARY:OHS
DESCRIPTION:
URL:http://maphumulo.gov.za/event/ohs/
LOCATION:Council Chamber
CATEGORIES:Meetings
END:VEVENT
BEGIN:VEVENT
DTSTART;TZID=Africa/Johannesburg:20210421T100000
DTEND;TZID=Africa/Johannesburg:20210421T163000
DTSTAMP:20210802T163805
CREATED:20210321T125527Z
LAST-MODIFIED:20210321T125527Z
UID:1471-1618999200-1619022600@maphumulo.gov.za
SUMMARY:Executive Committee
DESCRIPTION:
URL:http://maphumulo.gov.za/event/executive-committee-2/
LOCATION:Council Chamber
END:VEVENT
BEGIN:VEVENT
DTSTART;TZID=Africa/Johannesburg:20210420T100000
DTEND;TZID=Africa/Johannesburg:20210420T163000
DTSTAMP:20210802T163805
CREATED:20210321T125327Z
LAST-MODIFIED:20210321T125327Z
UID:1469-1618912800-1618936200@maphumulo.gov.za
SUMMARY:Maphumulo Women's Caucus
DESCRIPTION:Maphumulo Women’s Caucus
URL:http://maphumulo.gov.za/event/maphumulo-womens-caucus/
LOCATION:Council Chamber
END:VEVENT
BEGIN:VEVENT
DTSTART;TZID=Africa/Johannesburg:20210416T100000
DTEND;TZID=Africa/Johannesburg:20210416T163000
DTSTAMP:20210802T163805
CREATED:20210321T125215Z
LAST-MODIFIED:20210321T134911Z
UID:1467-1618567200-1618590600@maphumulo.gov.za
SUMMARY:Youth Sub–Committee
DESCRIPTION:
URL:http://maphumulo.gov.za/event/youth-sub-committee/
LOCATION:Council Chamber
CATEGORIES:Meetings
END:VEVENT
BEGIN:VEVENT
DTSTART;TZID=Africa/Johannesburg:20210415T100000
DTEND;TZID=Africa/Johannesburg:20210415T163000
DTSTAMP:20210802T163805
CREATED:20210321T125041Z
LAST-MODIFIED:20210321T125406Z
UID:1465-1618480800-1618504200@maphumulo.gov.za
SUMMARY:MRRT
DESCRIPTION:
URL:http://maphumulo.gov.za/event/mrrt/
LOCATION:Council Chamber
END:VEVENT
BEGIN:VEVENT
DTSTART;TZID=Africa/Johannesburg:20210413T100000
DTEND;TZID=Africa/Johannesburg:20210413T163000
DTSTAMP:20210802T163805
CREATED:20210321T124948Z
LAST-MODIFIED:20210321T124948Z
UID:1463-1618308000-1618331400@maphumulo.gov.za
SUMMARY:Gender & Vulnerable Sub-Committee
DESCRIPTION:
URL:http://maphumulo.gov.za/event/gender-vulnerable-sub-committee/
LOCATION:Council Chamber
END:VEVENT
BEGIN:VEVENT
DTSTART;TZID=Africa/Johannesburg:20210408T100000
DTEND;TZID=Africa/Johannesburg:20210408T163000
DTSTAMP:20210802T163805
CREATED:20210319T130035Z
LAST-MODIFIED:20210319T130035Z
UID:1451-1617876000-1617899400@maphumulo.gov.za
SUMMARY:Local Economic Development
DESCRIPTION:
URL:http://maphumulo.gov.za/event/local-economic-development/
LOCATION:Council Chamber
END:VEVENT
BEGIN:VEVENT
DTSTART;TZID=Africa/Johannesburg:20210406T100000
DTEND;TZID=Africa/Johannesburg:20210406T163000
DTSTAMP:20210802T163805
CREATED:20210319T125825Z
LAST-MODIFIED:20210319T125825Z
UID:1449-1617703200-1617726600@maphumulo.gov.za
SUMMARY:Technical & Infrastructure Portfolio
DESCRIPTION:
URL:http://maphumulo.gov.za/event/technical-infrastructure-portfolio/
LOCATION:Council Chamber
END:VEVENT
BEGIN:VEVENT
DTSTART;TZID=Africa/Johannesburg:20210331T100000
DTEND;TZID=Africa/Johannesburg:20210331T163000
DTSTAMP:20210802T163805
CREATED:20210319T120722Z
LAST-MODIFIED:20210319T124424Z
UID:1438-1617184800-1617208200@maphumulo.gov.za
SUMMARY:Council Meeting
DESCRIPTION:
URL:http://maphumulo.gov.za/event/council-meeting/
LOCATION:Council Chamber
END:VEVENT
BEGIN:VEVENT
DTSTART;TZID=Africa/Johannesburg:20210325T100000
DTEND;TZID=Africa/Johannesburg:20210325T163000
DTSTAMP:20210802T163805
CREATED:20210319T124518Z
LAST-MODIFIED:20210319T124518Z
UID:1443-1616666400-1616689800@maphumulo.gov.za
SUMMARY:JCC Meeting
DESCRIPTION:
URL:http://maphumulo.gov.za/event/jcc-meeting/
LOCATION:Council Chamber
END:VEVENT
BEGIN:VEVENT
DTSTART;TZID=Africa/Johannesburg:20210324T100000
DTEND;TZID=Africa/Johannesburg:20210324T163000
DTSTAMP:20210802T163805
CREATED:20210319T123543Z
LAST-MODIFIED:20210319T123944Z
UID:1441-1616580000-1616603400@maphumulo.gov.za
SUMMARY:Executive Committee
DESCRIPTION:
URL:http://maphumulo.gov.za/event/executive-committee/
LOCATION:Council Chamber
END:VEVENT
BEGIN:VEVENT
DTSTART;TZID=Africa/Johannesburg:20210323T100000
DTEND;TZID=Africa/Johannesburg:20210323T163000
DTSTAMP:20210802T163805
CREATED:20210319T124735Z
LAST-MODIFIED:20210319T124735Z
UID:1445-1616493600-1616517000@maphumulo.gov.za
SUMMARY:Finance & Corporate Services
DESCRIPTION:
URL:http://maphumulo.gov.za/event/finance-corporate-services/
LOCATION:Council Chamber
END:VEVENT
BEGIN:VEVENT
DTSTART;TZID=Africa/Johannesburg:20210321T080000
DTEND;TZID=Africa/Johannesburg:20210321T170000
DTSTAMP:20210802T163805
CREATED:20210321T125633Z
LAST-MODIFIED:20210321T125633Z
UID:1473-1616313600-1616346000@maphumulo.gov.za
SUMMARY:Finance & Corporate Services
DESCRIPTION:
URL:http://maphumulo.gov.za/event/finance-corporate-services-2/
LOCATION:Council Chamber
CATEGORIES:Meetings
END:VEVENT
BEGIN:VEVENT
DTSTART;TZID=Africa/Johannesburg:20210319T100000
DTEND;TZID=Africa/Johannesburg:20210319T163000
DTSTAMP:20210802T163805
CREATED:20210319T124903Z
LAST-MODIFIED:20210319T124903Z
UID:1447-1616148000-1616171400@maphumulo.gov.za
SUMMARY:OHS Meeting
DESCRIPTION:
URL:http://maphumulo.gov.za/event/ohs-meeting/
LOCATION:Council Chamber
END:VEVENT
END:VCALENDAR